BEGIN:VCALENDAR
VERSION:2.0
PRODID:-//Investory News - ECPv4.9.3.1//NONSGML v1.0//EN
CALSCALE:GREGORIAN
METHOD:PUBLISH
X-WR-CALNAME:Investory News
X-ORIGINAL-URL:https://investory.news
X-WR-CALDESC:Events for Investory News
BEGIN:VEVENT
DTSTART;TZID=Europe/Kiev:20191211T190000
DTEND;TZID=Europe/Kiev:20191211T210000
DTSTAMP:20260424T040012
CREATED:20191207T174614Z
LAST-MODIFIED:20191207T174614Z
UID:30850-1576090800-1576098000@investory.news
SUMMARY:VR/AR у бізнесі. Cases overview #4
DESCRIPTION:VR/AR у бізнесі – подія\, на якій мова піде про розширену реальність (XR). Цікаво\, як ефективно використовувати XR у бізнесі чи зробити бізнес на XR? Що це для брендів і корпорацій: технозабавка чи дієвий інструмент? \n\n11 грудня 2019 року\nUNIT.City\nОрангізатор: UNIT.City \n\nОСНОВНІ ТЕМИ: \n\nКластерні VR-симуляцій: як на цьому заробити;\nAR+5G+Cloud solutions: Новий стандарт бренд-комунікації з покупцями.\n\n
URL:https://investory.news/event/vr-ar-u-biznesi-cases-overview-4/
LOCATION:Unit City\, вулиця Дорогожицька\, 3\, Київ\, Ukraine
ATTACH;FMTTYPE=image/jpeg:https://investory.news/wp-content/uploads/2019/12/VR_y_biznesi.jpg
END:VEVENT
END:VCALENDAR