BEGIN:VCALENDAR
VERSION:2.0
PRODID:-//Investory News - ECPv4.9.3.1//NONSGML v1.0//EN
CALSCALE:GREGORIAN
METHOD:PUBLISH
X-WR-CALNAME:Investory News
X-ORIGINAL-URL:https://investory.news
X-WR-CALDESC:Events for Investory News
BEGIN:VEVENT
DTSTART;TZID=Europe/Kiev:20191210T190000
DTEND;TZID=Europe/Kiev:20191210T190000
DTSTAMP:20260424T023332
CREATED:20191204T201413Z
LAST-MODIFIED:20191204T201551Z
UID:30667-1576004400-1576004400@investory.news
SUMMARY:Макроекономічні сценарії і прогнози на 2020 рік
DESCRIPTION:Макроекономічні сценарії і прогнози на 2020 рік – подія\, яка відбудеться в Міжнародному конгрес-центрі “Український дім” та на якій провідні економісти Ukraine Economic Outlook традиційно оголосять макроекономічний прогноз на майбутній рік \n\n10 грудня 2019 року\n“Український дім”\nОрганізатор: Економічний лекторій \n\nОСНОВНІ ТЕМИ: \n(мовою оригіналу) \n\nМакроэкономический прогноз 2020;\nВыступления: Михаил Кухар Михаил Кухар (Kukhar Mykhailo) – старший экономист Ukraine Economic Outlook \, преподаватель макроэкономики в MIM-Kyiv и Григорий Кукуруза Grigory Kukuruza – старший экономист Ukraine Economic Outlook :\n«Макроэкономический сценарный прогноз на 2020 год».\nМаксим Белявский – экс- советник министра топлива и энергетики Украины: «Рынок газа и электроэнергии. Прогноз цен на 2020 год».\nКонстантин Тимонькин – инвестор\, независимый финансовый аналитик: «Мировые рынки капитала в 2020 году».\n\n
URL:https://investory.news/event/makroekonomichni-scenarii-i-prognozi-na-2020-rik/
LOCATION:“Український дім”\, вулиця Хрещатик\, 2\, Київ\, Ukraine
ATTACH;FMTTYPE=image/jpeg:https://investory.news/wp-content/uploads/2019/12/Prognoz2020.jpg
END:VEVENT
END:VCALENDAR