BEGIN:VCALENDAR
VERSION:2.0
PRODID:-//Investory News - ECPv4.9.3.1//NONSGML v1.0//EN
CALSCALE:GREGORIAN
METHOD:PUBLISH
X-WR-CALNAME:Investory News
X-ORIGINAL-URL:https://investory.news
X-WR-CALDESC:Events for Investory News
BEGIN:VEVENT
DTSTART;TZID=Europe/Kiev:20191204T090000
DTEND;TZID=Europe/Kiev:20191204T190000
DTSTAMP:20260423T184530
CREATED:20191126T105112Z
LAST-MODIFIED:20191126T105112Z
UID:30054-1575450000-1575486000@investory.news
SUMMARY:Міжнародна екологічна конференція "Свідомий бізнес"
DESCRIPTION:Міжнародна екологічна конференція “Свідомий бізнес” – це майданчик для обміну практичними кейсами бізнеса для бізнесу щодо впровадження Цілей сталого розвитку в економічну діяльність \n\n4 грудня 2019 року\nUNIT.City\nОрганізатор: Інститут соціальних інновацій \n\nОСНОВНІ ТЕМИ: \n\nЕкологічні стартапи та сталі технологічні розробки;\nПриклади впровадження сталих процесів виробництва у великих компаніях;\nЗалучення інвестицій в сталі бізнес-проекти;\nКейси побудови бізнесу “на смітті”;\nІнновації в сфері поводження з відходами;\nСталий та соціальний бізнес.\n\n
URL:https://investory.news/event/mizhnarodna-ekologichna-konferenciya-svidomij-biznes/
LOCATION:Unit City\, вулиця Дорогожицька\, 3\, Київ\, Ukraine
ATTACH;FMTTYPE=image/jpeg:https://investory.news/wp-content/uploads/2019/11/Svidomy_Vubir.jpg
END:VEVENT
BEGIN:VEVENT
DTSTART;TZID=Europe/Kiev:20191204T093000
DTEND;TZID=Europe/Kiev:20191204T160000
DTSTAMP:20260423T184530
CREATED:20191023T143747Z
LAST-MODIFIED:20191023T143747Z
UID:27791-1575451800-1575475200@investory.news
SUMMARY:Комплаєнс та корпоративне шахрайство: правила чесної гри
DESCRIPTION:Комплаєнс та корпоративне шахрайство: правила чесної гри – це продовження циклу заходів від VlasConference\, присвячених комплаєнсу та протидії шахрайству \n\n4 грудня 2019 року\nAlfavito Hotel\nОрганізатор: VlasConference \n\nОСНОВНІ ТЕМИ: \n\nЗахист компанії від корпоративних шахрайств. Практика протидії;\nПопереджений – означає озброєний. План дій з управління виявленими ризиками шахрайства;\nПрактика побудови ефективної комплаєнс функції.\n\n
URL:https://investory.news/event/komplayens-ta-korporativne-shaxrajstvo-pravila-chesnoi-gri/
LOCATION:Alfavito Hotel  \, вулиця Предславінська\, 35-Д\, Київ\, Ukraine
ATTACH;FMTTYPE=image/jpeg:https://investory.news/wp-content/uploads/2019/10/Komplaens_ta_korporativne_Shahraistvo.jpg
END:VEVENT
END:VCALENDAR