BEGIN:VCALENDAR
VERSION:2.0
PRODID:-//Investory News - ECPv4.9.3.1//NONSGML v1.0//EN
CALSCALE:GREGORIAN
METHOD:PUBLISH
X-WR-CALNAME:Investory News
X-ORIGINAL-URL:https://investory.news
X-WR-CALDESC:Events for Investory News
BEGIN:VEVENT
DTSTART;TZID=Europe/Kiev:20191127T090000
DTEND;TZID=Europe/Kiev:20191128T180000
DTSTAMP:20260423T105733
CREATED:20191024T091238Z
LAST-MODIFIED:20191024T091238Z
UID:27873-1574845200-1574964000@investory.news
SUMMARY:Human Capital Forum 2019
DESCRIPTION:Human Capital Forum – міжнародний форум з управління людським капіталом \n\n27-28 листопада 2019 року\nГотель “Хрещатик”\nОрганізатор: EUROindex \n\nОСНОВНІ ТЕМИ: \n\nРоботи та люди;\nОсобиста ефективність в цифрову епоху;\nТрансформація організаційної культури;\nГнучкі структури організацій.\n\n
URL:https://investory.news/event/human-capital-forum-2019/
LOCATION:Хрещатик готель\, вулиця Хрещатик\, 14\, Київ\, Ukraine
ATTACH;FMTTYPE=image/jpeg:https://investory.news/wp-content/uploads/2019/10/HCF2019.jpg
END:VEVENT
BEGIN:VEVENT
DTSTART;TZID=Europe/Kiev:20191127T100000
DTEND;TZID=Europe/Kiev:20191128T180000
DTSTAMP:20260423T105733
CREATED:20190820T095545Z
LAST-MODIFIED:20190820T101931Z
UID:22663-1574848800-1574964000@investory.news
SUMMARY:UKRAINIAN FOOD EXPO
DESCRIPTION:Ukrainian Food Expo – міжнародна b2b-платформа\, яка допомагає заявити ринку про себе та презентувати свій продукт цільовій аудиторії\, провести переговори з потенційними партнерами та укласти вигідні контракти\, налагодити партнерство\, корисні ділові зв’язки та розширити ринки збуту. \n\n27 – 28 листопада 2019 року\nМіжнародний Виставковий Центр\nОрганізатор: Ukrainian Food Export Board \n\nОСНОВНІ ТЕМИ:\n(мовою оригіналу) \n\n«Drinks 2019»;\n«Експорт олії з України 2019»;\n«Бакалія 2019»;\n«Fish & Seafood 2019»;\n«Fruits\, Berries & Vegetables 2019»;\n«Confectionery & Bakery 2019»;\n«М’ясний бізнес 2019»;\n«Milk Processing 2019».\n\n
URL:https://investory.news/event/ukrainian-food-expo/
LOCATION:Міжнародний виставковий центр\, проспект Броварський\, 15\, Київ\, Ukraine
ATTACH;FMTTYPE=image/png:https://investory.news/wp-content/uploads/2019/08/Ukrainian_Food_Expo.png
END:VEVENT
BEGIN:VEVENT
DTSTART;TZID=Europe/Kiev:20191128T090000
DTEND;TZID=Europe/Kiev:20191128T150000
DTSTAMP:20260423T105733
CREATED:20191118T163628Z
LAST-MODIFIED:20191118T163628Z
UID:29529-1574931600-1574953200@investory.news
SUMMARY:ІІ Саудівсько-Український аграрний бізнес-інвестиційний форум
DESCRIPTION:Саудівсько-Український аграрний бізнес-інвестиційний форум – подія висвітлює поточний стан економічного співробітництва Саудівської Аравії та України\, сільського господарства та агробізнесу в Україні і майбутні інвестиційні можливості \n\n28 листопада 2019 року\nFairmont Grand Hotel Kyiv\nОрганізатор: Контінентал Фармерз Груп \n\nОСНОВНІ ТЕМИ: \n\nВиступи експертів і представників органів влади обох держав;\nДискусії про агрокультуру та агробізнес;\nОбговорення фінансової стабільності й перспектив інвестування в Україні.\n\n  \n
URL:https://investory.news/event/ii-saudivsko-ukrainskij-agrarnij-biznes-investicijnij-forum/
LOCATION:Fairmont Grand Hotel Kyiv\, Naberezhno-Khreshatytska street\, 1
ATTACH;FMTTYPE=image/jpeg:https://investory.news/wp-content/uploads/2019/11/Saudic-ukraine_forum.jpg
END:VEVENT
END:VCALENDAR