BEGIN:VCALENDAR
VERSION:2.0
PRODID:-//Investory News - ECPv4.9.3.1//NONSGML v1.0//EN
CALSCALE:GREGORIAN
METHOD:PUBLISH
X-WR-CALNAME:Investory News
X-ORIGINAL-URL:https://investory.news
X-WR-CALDESC:Events for Investory News
BEGIN:VEVENT
DTSTART;TZID=Europe/Kiev:20191122T090000
DTEND;TZID=Europe/Kiev:20191122T190000
DTSTAMP:20260423T030200
CREATED:20191015T163119Z
LAST-MODIFIED:20191016T084959Z
UID:27117-1574413200-1574449200@investory.news
SUMMARY:Sales Hero Conf
DESCRIPTION:Sales Hero Conf – конференція найбільшоїї сейлз спільноти в Україні та СНД \n\n22 листопада 2019 року\nКонференц-холл “Оазис”\nОрганізатор: SalesHeroConf \n\nОСНОВНІ ТЕМИ: \n\nТренди в продажах\, маркетингу та автоматизації на 2020;\nОбмін досвідом.\n\n
URL:https://investory.news/event/sales-hero-conf/
LOCATION:“ОАЗИС”\, РЦ “Ультрамарин”\, вулиця Липківського\, 1-а\, Київ\, 02000\, Ukraine
ATTACH;FMTTYPE=image/jpeg:https://investory.news/wp-content/uploads/2019/10/Sales_Yero_Corp.jpg
END:VEVENT
BEGIN:VEVENT
DTSTART;TZID=Europe/Kiev:20191122T090000
DTEND;TZID=Europe/Kiev:20191122T190000
DTSTAMP:20260423T030200
CREATED:20191029T163006Z
LAST-MODIFIED:20191029T163006Z
UID:28217-1574413200-1574449200@investory.news
SUMMARY:Trans4mation Forum
DESCRIPTION:Trans4mation Forum – форум для власників бізнесу\, CEO та директорів покликаний показати\, як технології Industry 4.0\nефективно впливають на бізнес \n\n22 листопада 2019 року\nКВЦ Парковий\nОрганізатори: Trans4mation Forum и IT-Enterprise \n\nОСНОВНІ ТЕМИ: \n\nЯк технології Industry 4.0 підвищують дохідність бізнесу;\nЯкі проблеми потрібно вирішувати під час цифрової трансформації;\nЯкі кейси вже зараз можна впроваджувати в своїх компаніях;\nСкільки коштує цифровізація бізнесу.\n\n
URL:https://investory.news/event/trans4mation-forum/
LOCATION:КВЦ Парковий\, Паркова дорога\, 16 а\, Київ\, 01021\, Ukraine
ATTACH;FMTTYPE=image/jpeg:https://investory.news/wp-content/uploads/2019/10/Tranc4mation.jpg
END:VEVENT
BEGIN:VEVENT
DTSTART;TZID=Europe/Kiev:20191122T090000
DTEND;TZID=Europe/Kiev:20191122T180000
DTSTAMP:20260423T030200
CREATED:20191115T070652Z
LAST-MODIFIED:20191115T070652Z
UID:29343-1574413200-1574445600@investory.news
SUMMARY:YEAR-END SUMMARY FINANCE & LEGAL CONFERENCE
DESCRIPTION:Year-end summary finance & legal conference – підсумки 2019 та прогноз на 2020 від офіційного представника ІТ бізнесу в Україні \n\n22 листопада 2019 року\nDAN.IT Education\nОрганізатор: IT Ukraine Association \n\nОСНОВНІ ТЕМИ: \n\nАктуальна позиція щодо змін в ІТ від офіційного представника ІТ-бізнесу в Україні;\nЕксклюзивні інсайти щодо політичного врегулювання проблем ФОП\, обшуків\, перевірок Держпраці та ін.;\nМожливість для нетворкінгу з представниками ІТ-ринку та корисні знайомства.\n\n
URL:https://investory.news/event/year-end-summary-finance-legal-conference/
LOCATION:DAN.IT Education\, проспект Павла Тичини\, 1В\, Київ\, Ukraine
ATTACH;FMTTYPE=image/jpeg:https://investory.news/wp-content/uploads/2019/11/FLConference.jpg
END:VEVENT
END:VCALENDAR