BEGIN:VCALENDAR
VERSION:2.0
PRODID:-//Investory News - ECPv4.9.3.1//NONSGML v1.0//EN
CALSCALE:GREGORIAN
METHOD:PUBLISH
X-WR-CALNAME:Investory News
X-ORIGINAL-URL:https://investory.news
X-WR-CALDESC:Events for Investory News
BEGIN:VEVENT
DTSTART;TZID=Europe/Kiev:20191121T090000
DTEND;TZID=Europe/Kiev:20191121T180000
DTSTAMP:20260423T013353
CREATED:20191031T175201Z
LAST-MODIFIED:20191031T183245Z
UID:28404-1574326800-1574359200@investory.news
SUMMARY:FMCG Innovation Conference 2019
DESCRIPTION:FMCG Innovation Conference 2019 – у фокусі конференції інновації на споживчому ринку: перепони\, ризики та можливості для інвестицій в ефективність бізнесу \n\n21 листопада 2019 року\nIQ Business Center\nОрганізатор: FMCG CLUB и Meeting Point \n\nОСНОВНІ ТЕМИ:\n(мовою оригіналу) \n\nИнвестиции в инновации как залог лидерства на рынке в будущем;\nFMCG рынок Украины в эпоху высоких скоростей и digital трансформаций;\nСоздание и вывод на рынок инновационных продуктов;\nЧто делать сегодня\, чтобы быть релевантным для потребителя через 5–10 лет;\nНовые грани дифференциации. Необычные возможности вовлечения\, которые можно использовать для формирования эмоциональных связей с покупателями;\nАвтоматизированные магазины — будущее продуктового ритейла;\nКреатив в разработке и эмоциональная связь с потребителем через детали позиционирования;\nДизайн-мышление: создание потребительской ценности & трансформация компании;\nКак проникнуть в потребительскую корзину;\nИнновации в маркетинге. Практическое использование AR для создания эмоциональной связи между потребителем и брендом.\n\n\n
URL:https://investory.news/event/fmcg-innovation-conference-2019/
LOCATION:IQ Business Center\, вулиця Болсунівська 13-15\, Київ\, 01014\, Ukraine
ATTACH;FMTTYPE=image/png:https://investory.news/wp-content/uploads/2019/10/FMCG.png
END:VEVENT
END:VCALENDAR