BEGIN:VCALENDAR
VERSION:2.0
PRODID:-//Investory News - ECPv4.9.3.1//NONSGML v1.0//EN
CALSCALE:GREGORIAN
METHOD:PUBLISH
X-WR-CALNAME:Investory News
X-ORIGINAL-URL:https://investory.news
X-WR-CALDESC:Events for Investory News
BEGIN:VEVENT
DTSTART;TZID=Europe/Kiev:20191115T083000
DTEND;TZID=Europe/Kiev:20191116T180000
DTSTAMP:20260422T184520
CREATED:20191103T134251Z
LAST-MODIFIED:20191103T134340Z
UID:28497-1573806600-1573927200@investory.news
SUMMARY:Стратегія росту для МСБ
DESCRIPTION: Стратегія росту для МСБ – практичний\, дводенний інтенсив для маркетинг-директорів\, керівників та власників бізнесу \n\n15 – 16 листопада 2019 року\nКиївської школи економіки(KSE)\nОрганізатор: Київської школи економіки(KSE) \n\nОСНОВНІ ТЕМИ: \n\nВизначення напрямку майбутнього росту;\nРозуміння споживача;\nПобудова стратегії;\nРозробка плану реалізації стратегії.\n\n
URL:https://investory.news/event/strategiya-rostu-dlya-msb/
LOCATION:Київської школи економіки (KSE)\, вулиця Дмитрівська 92-94\, Київ\, Ukraine
ATTACH;FMTTYPE=image/jpeg:https://investory.news/wp-content/uploads/2019/11/Strategaya_Rosty_dly_MCB.jpg
END:VEVENT
END:VCALENDAR