BEGIN:VCALENDAR
VERSION:2.0
PRODID:-//Investory News - ECPv4.9.3.1//NONSGML v1.0//EN
CALSCALE:GREGORIAN
METHOD:PUBLISH
X-WR-CALNAME:Investory News
X-ORIGINAL-URL:https://investory.news
X-WR-CALDESC:Events for Investory News
BEGIN:VEVENT
DTSTART;TZID=Europe/Kiev:20191108T080000
DTEND;TZID=Europe/Kiev:20191109T200000
DTSTAMP:20260422T091012
CREATED:20190214T111858Z
LAST-MODIFIED:20190214T111858Z
UID:4871-1573200000-1573329600@investory.news
SUMMARY:Kyiv International Economic Forum 2019
DESCRIPTION:Kyiv International Economic Forum 2019 – провідна міжнародна платформа\, де аналізують та обговорюють перспективи розвитку української та глобальної економіки\, бізнесу\, підприємництва\, а також визначають їх вплив на політику та суспільство. \n\n8 – 9 листопада 2019\nКВЦ Парковий\nОрганізатор:  Київський Міжнародний Економічний Форум \n\nОСНОВНІ ТЕМИ: \n\nЗміна клімату\,\nЦифрова трансформація\,\nІндустрія 4.0\,\nГлобальні економічні тренди\,\nНові лідери\,\nІнноваційні технології\,\nОсвіта 21 сторіччя\,\nМайбутнє професій\,\nЕкосистема стартапів\,\nКонкуренція на світовому ринку прямих інвестицій\,\nШтучний інтелект vs людство\,\nУкраїна на світовій арені.\n\n\n
URL:https://investory.news/event/kyiv-international-economic-forum-2019/
LOCATION:КВЦ Парковий\, Паркова дорога\, 16 а\, Київ\, 01021\, Ukraine
ATTACH;FMTTYPE=image/jpeg:https://investory.news/wp-content/uploads/2019/02/KIEF.jpg
END:VEVENT
END:VCALENDAR