BEGIN:VCALENDAR
VERSION:2.0
PRODID:-//Investory News - ECPv4.9.3.1//NONSGML v1.0//EN
CALSCALE:GREGORIAN
METHOD:PUBLISH
X-WR-CALNAME:Investory News
X-ORIGINAL-URL:https://investory.news
X-WR-CALDESC:Events for Investory News
BEGIN:VEVENT
DTSTART;TZID=Europe/Kiev:20191105T100000
DTEND;TZID=Europe/Kiev:20191107T180000
DTSTAMP:20260422T045115
CREATED:20190125T221132Z
LAST-MODIFIED:20190126T073224Z
UID:2391-1572948000-1573149600@investory.news
SUMMARY:ЄвроБудЕкспо - 2019
DESCRIPTION:ЄвроБудЕкспо – це єдиний інформаційний простір для спеціалістів із усіх секторів будівельної індустрії. \n\n5 – 7 листопада 2019\nМіжнародний виставковий центр\nОрганізатор: Міжнародний виставковий центр \n\nОСНОВНІ ТЕМИ: \n\nОгляд і оцінка екпонуємих товарів та послуг представниками державних закупівельних структур\, а також організаціями. які зайняті постачанням на об’єкти будівництва сировини\, матеріалів\, техніки\,\nПозиціонування вітчизняних та зарубіжних підприємств на будівельному ринку України\,\nАналіз конкурентоспроможності продукції\,\nПошук партнерів\,\nОзнайомлення з передовими досягненнями сучасних технологій будівництва.\n\n
URL:https://investory.news/event/yevrobudekspo-2019/
LOCATION:Міжнародний виставковий центр\, проспект Броварський\, 15\, Київ\, Ukraine
ATTACH;FMTTYPE=image/jpeg:https://investory.news/wp-content/uploads/2019/01/ЄвроБудЕкспо.jpg
END:VEVENT
BEGIN:VEVENT
DTSTART;TZID=Europe/Kiev:20191105T100000
DTEND;TZID=Europe/Kiev:20191107T180000
DTSTAMP:20260422T045115
CREATED:20190125T223002Z
LAST-MODIFIED:20190126T073341Z
UID:2401-1572948000-1573149600@investory.news
SUMMARY:Енергетика в промисловості - 2019
DESCRIPTION:Енергетика в промисловості – міжнародна спеціалізована виставка\, покликана стати центральним об’єднуючим заходом для демонстрації досягнень у сфері енергозберігаючого обладнання та інноваційних технологій. \n\n5 – 7 листопада 2019\nМіжнародний виставковий центр\nОрганізатор: Міжнародний виставковий центр \n\nОСНОВНІ ТЕМИ:\n(мовою оригіналу) \n\nТепловое и энергетическое оборудование промышленных предприятий;\nЭлектротехническое оборудование;\nЭлектрооборудование механизмов\, машин\, станков;\nЭлектрооборудование для электротранспорта;\nСветотехническое оборудование;\nКабельно-проводниковая продукция;\nАвтоматизация. КИПиА.\n\n
URL:https://investory.news/event/energetika-v-promislovosti-2019/
LOCATION:Міжнародний виставковий центр\, проспект Броварський\, 15\, Київ\, Ukraine
ATTACH;FMTTYPE=image/jpeg:https://investory.news/wp-content/uploads/2019/01/Енергетика-в-промисловості.jpg
END:VEVENT
BEGIN:VEVENT
DTSTART;TZID=Europe/Kiev:20191106T093000
DTEND;TZID=Europe/Kiev:20191106T200000
DTSTAMP:20260422T045115
CREATED:20191016T093015Z
LAST-MODIFIED:20191016T093015Z
UID:27176-1573032600-1573070400@investory.news
SUMMARY:IV Конференція "Корпоративна безпека"
DESCRIPTION:Конференція “Корпоративна безпека” – подія для власників бізнесу\, членів спостережних рад і рад директорів\, керівників окремих підрозділів холдингів і корпорацій\, служб безпеки і юридичних департаментів\, форензік- і комплаєнс офіцерів\, представників силових відомств\, представників дипкорпусу\, делегацій іноземних асоціацій\, держслужбовців та народних депутатів Україниx \n\n6 листопада 2019 року\nHilton Kyiv\nОрганізатор: Sayenko Kharenko та Асоціація професіоналів корпоративної безпеки України \n\nОСНОВНІ ТЕМИ: \n\nКорупція та безпека бізнесу;\nІндустрія безпеки;\nІнновації та технології у сфері безпеки;\nСЕО та управління безпекою бізнесу.\n\n
URL:https://investory.news/event/iv-konferenciya-korporativna-bezpeka/
LOCATION:Готель «Hilton Kyiv» \, бульвар Тараса Шевченко\, 30\, Київ
ATTACH;FMTTYPE=image/jpeg:https://investory.news/wp-content/uploads/2019/10/Corporativna_Bezpeka_Conferenc.jpg
END:VEVENT
END:VCALENDAR