BEGIN:VCALENDAR
VERSION:2.0
PRODID:-//Investory News - ECPv4.9.3.1//NONSGML v1.0//EN
CALSCALE:GREGORIAN
METHOD:PUBLISH
X-WR-CALNAME:Investory News
X-ORIGINAL-URL:https://investory.news
X-WR-CALDESC:Events for Investory News
BEGIN:VEVENT
DTSTART;TZID=Europe/Kiev:20191015T193000
DTEND;TZID=Europe/Kiev:20191015T213000
DTSTAMP:20260419T124135
CREATED:20191002T100316Z
LAST-MODIFIED:20191002T100316Z
UID:26010-1571167800-1571175000@investory.news
SUMMARY:Анатомія стартапу: як створити\, вижити та розвинути?
DESCRIPTION:Анатомія стартапу: як створити\, вижити та розвинути – зустріч для тих\, хто збирається розпочати або вже розпочав свою справу. Інноваційні ідеї\, пошук ресурсів\, підбір команди – на всі ці питання ви знайдете відповідь \n\n15 жовтн 2019 року\niHUB\nОрганізатор: Вільна Академія Змін \n\nОСНОВНІ ТЕМИ: \n\nНаскільки ідея для стартапу повинна бути унікальною і\, як визначити її перспективи?\nЧи можна спрогнозувати успіх стартапу\, і в чому основні причини невдач?\nЯк правильно розрахувати бізнес-модель та оцінити ризики?\nЯкі ресурси слід інвестувати у стартап? Коли варто залучати зовнішнє фінансування\, а коли використовувати наявні ресурси? На що реагують інвестори?\nКоли і як правильно взаємодіяти з гравцями стартап-екосистеми – інкубаторами\, акселераторами\, венчурними фондами та іншими типами інвесторів? У чому основні проблеми непорозуміння між інвесторами та фаундерами?\nЯк ефективно використовувати досвід ринкового тестування прототипу і вчитися на помилках?\nЯк масштабувати продукт до «великої історії» та не потрапити у пастку особистої успішності?\nЯкою має бути команда на різних етапах розвитку стартапу?\nЯк не допускати кризових ситуацій в житті стартапу та правильно виходити з них?\n\n
URL:https://investory.news/event/anatomiya-startapu-yak-stvoriti-vizhiti-ta-rozvinuti/
LOCATION:iHUB\, вул. Хрещатик\, 10\, Київ
ATTACH;FMTTYPE=image/jpeg:https://investory.news/wp-content/uploads/2019/10/Startap_Anatomy.jpg
END:VEVENT
END:VCALENDAR